BEGIN:VCALENDAR
METHOD:PUBLISH
VERSION:2.0
PRODID:-//hacksw/handcal//NONSGML v1.0//EN
BEGIN:VEVENT
DTSTAMP:20260428T113000
DTSTART:20260428T113000
DTEND:20260428T114500
SUMMARY:Inspection
LOCATION:6/31 Prince  Street Randwick NSW 2031
DESCRIPTION:
UID:3de2e4d1-b69a-4935-8a80-41b432768c0d@enlivenai.com.au
END:VEVENT
END:VCALENDAR
