BEGIN:VCALENDAR
METHOD:PUBLISH
VERSION:2.0
PRODID:-//hacksw/handcal//NONSGML v1.0//EN
BEGIN:VEVENT
DTSTAMP:20260429T100000
DTSTART:20260429T100000
DTEND:20260429T103000
SUMMARY:Inspection
LOCATION:2a Colbourne Avenue Glebe NSW 2037
DESCRIPTION:
UID:63388c89-4420-488d-988b-1a1ac094b9a6@enlivenai.com.au
END:VEVENT
END:VCALENDAR
