BEGIN:VCALENDAR
METHOD:PUBLISH
VERSION:2.0
PRODID:-//hacksw/handcal//NONSGML v1.0//EN
BEGIN:VEVENT
DTSTAMP:20260506T100000
DTSTART:20260506T100000
DTEND:20260506T103000
SUMMARY:Inspection
LOCATION:2a Colbourne Avenue Glebe NSW 2037
DESCRIPTION:
UID:f3ac6339-e959-4fff-ba7b-6f7729d6f6b4@enlivenai.com.au
END:VEVENT
END:VCALENDAR
