BEGIN:VCALENDAR
METHOD:PUBLISH
VERSION:2.0
PRODID:-//hacksw/handcal//NONSGML v1.0//EN
BEGIN:VEVENT
DTSTAMP:20260428T130000
DTSTART:20260428T130000
DTEND:20260428T131500
SUMMARY:Inspection
LOCATION:2 Newman  Road Nunawading VIC 3131
DESCRIPTION:
UID:79c019f9-5767-489a-8b9c-74b56187f316@enlivenai.com.au
END:VEVENT
END:VCALENDAR
