BEGIN:VCALENDAR
METHOD:PUBLISH
VERSION:2.0
PRODID:-//hacksw/handcal//NONSGML v1.0//EN
BEGIN:VEVENT
DTSTAMP:20260425T110000
DTSTART:20260425T110000
DTEND:20260425T113000
SUMMARY:Inspection
LOCATION:42 Bardo Road Newport NSW 2106
DESCRIPTION:
UID:d3b62a76-52c6-4a90-82cf-5ed5f96cfcdc@enlivenai.com.au
END:VEVENT
END:VCALENDAR
