BEGIN:VCALENDAR
METHOD:PUBLISH
VERSION:2.0
PRODID:-//hacksw/handcal//NONSGML v1.0//EN
BEGIN:VEVENT
DTSTAMP:20260428T161500
DTSTART:20260428T161500
DTEND:20260428T163500
SUMMARY:Inspection
LOCATION:2/236 Lutwyche Road Windsor QLD 4030
DESCRIPTION:
UID:9eac92e5-4244-4028-8945-cfa95d9ef0f1@enlivenai.com.au
END:VEVENT
END:VCALENDAR
