BEGIN:VCALENDAR
METHOD:PUBLISH
VERSION:2.0
PRODID:-//hacksw/handcal//NONSGML v1.0//EN
BEGIN:VEVENT
DTSTAMP:20260423T160000
DTSTART:20260423T160000
DTEND:20260423T163000
SUMMARY:Inspection
LOCATION:27 Kelvin Street Wavell Heights QLD 4012
DESCRIPTION:
UID:891ee103-76dd-4bad-ae81-3f73d3b4ff79@enlivenai.com.au
END:VEVENT
END:VCALENDAR
