BEGIN:VCALENDAR
METHOD:PUBLISH
VERSION:2.0
PRODID:-//hacksw/handcal//NONSGML v1.0//EN
BEGIN:VEVENT
DTSTAMP:20260426T140000
DTSTART:20260426T140000
DTEND:20260426T143000
SUMMARY:Inspection
LOCATION:136A Scarborough Beach Road Scarborough WA 6019
DESCRIPTION:
UID:4b038e6b-0a35-4ad7-9e61-e59077777ded@enlivenai.com.au
END:VEVENT
END:VCALENDAR
