BEGIN:VCALENDAR
METHOD:PUBLISH
VERSION:2.0
PRODID:-//hacksw/handcal//NONSGML v1.0//EN
BEGIN:VEVENT
DTSTAMP:20260426T110000
DTSTART:20260426T110000
DTEND:20260426T113000
SUMMARY:Inspection
LOCATION:136A Scarborough Beach Road Scarborough WA 6019
DESCRIPTION:
UID:ef75800c-10d0-49bd-9fc6-562e8209ffa6@enlivenai.com.au
END:VEVENT
END:VCALENDAR
