BEGIN:VCALENDAR
METHOD:PUBLISH
VERSION:2.0
PRODID:-//hacksw/handcal//NONSGML v1.0//EN
BEGIN:VEVENT
DTSTAMP:20260428T123000
DTSTART:20260428T123000
DTEND:20260428T124500
SUMMARY:Inspection
LOCATION:9/25 Barr Street Camperdown NSW 2050
DESCRIPTION:
UID:2258d6a5-ce76-437d-af75-bc09fffe2544@enlivenai.com.au
END:VEVENT
END:VCALENDAR
