BEGIN:VCALENDAR
METHOD:PUBLISH
VERSION:2.0
PRODID:-//hacksw/handcal//NONSGML v1.0//EN
BEGIN:VEVENT
DTSTAMP:20260430T174500
DTSTART:20260430T174500
DTEND:20260430T181500
SUMMARY:Inspection
LOCATION:304/20 Breese Street Brunswick VIC 3056
DESCRIPTION:
UID:f0716315-5867-4b5d-bec9-46f6a85f11a2@enlivenai.com.au
END:VEVENT
END:VCALENDAR
