BEGIN:VCALENDAR
METHOD:PUBLISH
VERSION:2.0
PRODID:-//hacksw/handcal//NONSGML v1.0//EN
BEGIN:VEVENT
DTSTAMP:20260424T130000
DTSTART:20260424T130000
DTEND:20260424T133000
SUMMARY:Inspection
LOCATION:2/29 Helensvale Road Helensvale QLD 4212
DESCRIPTION:
UID:1c22f218-9ae5-4060-8690-7ece5cf13c4c@enlivenai.com.au
END:VEVENT
END:VCALENDAR
