BEGIN:VCALENDAR
METHOD:PUBLISH
VERSION:2.0
PRODID:-//hacksw/handcal//NONSGML v1.0//EN
BEGIN:VEVENT
DTSTAMP:20260425T144500
DTSTART:20260425T144500
DTEND:20260425T151500
SUMMARY:Inspection
LOCATION:492 Victoria  Street Brunswick West VIC 3055
DESCRIPTION:
UID:2bd1e280-3927-44bc-9b4e-6fdbf7d77e2e@enlivenai.com.au
END:VEVENT
END:VCALENDAR
