BEGIN:VCALENDAR
METHOD:PUBLISH
VERSION:2.0
PRODID:-//hacksw/handcal//NONSGML v1.0//EN
BEGIN:VEVENT
DTSTAMP:20260426T133000
DTSTART:20260426T133000
DTEND:20260426T140000
SUMMARY:Inspection
LOCATION:26 Lucretia Avenue Longueville NSW 2066
DESCRIPTION:
UID:99c1bb84-619d-4000-aacb-823635593303@enlivenai.com.au
END:VEVENT
END:VCALENDAR
