BEGIN:VCALENDAR
METHOD:PUBLISH
VERSION:2.0
PRODID:-//hacksw/handcal//NONSGML v1.0//EN
BEGIN:VEVENT
DTSTAMP:20260507T170000
DTSTART:20260507T170000
DTEND:20260507T173000
SUMMARY:Inspection
LOCATION:52 Ballast Point Road Birchgrove NSW 2041
DESCRIPTION:
UID:4d670312-4b2e-457a-bfe1-4a6ab0c38c39@enlivenai.com.au
END:VEVENT
END:VCALENDAR
