BEGIN:VCALENDAR
METHOD:PUBLISH
VERSION:2.0
PRODID:-//hacksw/handcal//NONSGML v1.0//EN
BEGIN:VEVENT
DTSTAMP:20260429T131500
DTSTART:20260429T131500
DTEND:20260429T134500
SUMMARY:Inspection
LOCATION:302/52-54 Chandos Street St Leonards NSW 2065
DESCRIPTION:
UID:6b6ed7ea-dfcc-434b-a64d-141dbdac06d4@enlivenai.com.au
END:VEVENT
END:VCALENDAR
