BEGIN:VCALENDAR
METHOD:PUBLISH
VERSION:2.0
PRODID:-//hacksw/handcal//NONSGML v1.0//EN
BEGIN:VEVENT
DTSTAMP:20260422T131500
DTSTART:20260422T131500
DTEND:20260422T134500
SUMMARY:Inspection
LOCATION:302/52-54 Chandos Street St Leonards NSW 2065
DESCRIPTION:
UID:c093de17-b654-4b4d-ada5-c26595c2f8d0@enlivenai.com.au
END:VEVENT
END:VCALENDAR
