BEGIN:VCALENDAR
METHOD:PUBLISH
VERSION:2.0
PRODID:-//hacksw/handcal//NONSGML v1.0//EN
BEGIN:VEVENT
DTSTAMP:20260424T164500
DTSTART:20260424T164500
DTEND:20260424T170000
SUMMARY:Inspection
LOCATION:176/81 King William Street Bayswater WA 6053
DESCRIPTION:
UID:e3a7a895-dc5a-450c-902d-136f990b8380@enlivenai.com.au
END:VEVENT
END:VCALENDAR
