BEGIN:VCALENDAR
METHOD:PUBLISH
VERSION:2.0
PRODID:-//hacksw/handcal//NONSGML v1.0//EN
BEGIN:VEVENT
DTSTAMP:20260422T133000
DTSTART:20260422T133000
DTEND:20260422T140000
SUMMARY:Inspection
LOCATION:3/17 Munro Street McMahons Point NSW 2060
DESCRIPTION:
UID:dc4da515-4bf7-4d0b-9746-c11bab5891fd@enlivenai.com.au
END:VEVENT
END:VCALENDAR
