BEGIN:VCALENDAR
METHOD:PUBLISH
VERSION:2.0
PRODID:-//hacksw/handcal//NONSGML v1.0//EN
BEGIN:VEVENT
DTSTAMP:20260430T121500
DTSTART:20260430T121500
DTEND:20260430T124500
SUMMARY:Inspection
LOCATION:49/3 Wulumay Close Rozelle NSW 2039
DESCRIPTION:
UID:bd5968ed-03fb-468f-96d1-f20ae0e304ed@enlivenai.com.au
END:VEVENT
END:VCALENDAR
