BEGIN:VCALENDAR
METHOD:PUBLISH
VERSION:2.0
PRODID:-//hacksw/handcal//NONSGML v1.0//EN
BEGIN:VEVENT
DTSTAMP:20260428T154000
DTSTART:20260428T154000
DTEND:20260428T155500
SUMMARY:Inspection
LOCATION:5 Frances Street Northmead NSW 2152
DESCRIPTION:
UID:edc56e5e-f625-49b2-b9ed-25184737583e@enlivenai.com.au
END:VEVENT
END:VCALENDAR
