BEGIN:VCALENDAR
METHOD:PUBLISH
VERSION:2.0
PRODID:-//hacksw/handcal//NONSGML v1.0//EN
BEGIN:VEVENT
DTSTAMP:20260502T103000
DTSTART:20260502T103000
DTEND:20260502T110000
SUMMARY:Inspection
LOCATION:6/169 High Street North Sydney NSW 2060
DESCRIPTION:
UID:1f339b37-4365-4228-bdee-1c1c945bf2aa@enlivenai.com.au
END:VEVENT
END:VCALENDAR
