BEGIN:VCALENDAR
METHOD:PUBLISH
VERSION:2.0
PRODID:-//hacksw/handcal//NONSGML v1.0//EN
BEGIN:VEVENT
DTSTAMP:20260430T103000
DTSTART:20260430T103000
DTEND:20260430T110000
SUMMARY:Inspection
LOCATION:6/169 High Street North Sydney NSW 2060
DESCRIPTION:
UID:62fb0327-db6c-4db5-a5c9-2f0c8618aad8@enlivenai.com.au
END:VEVENT
END:VCALENDAR
