BEGIN:VCALENDAR
METHOD:PUBLISH
VERSION:2.0
PRODID:-//hacksw/handcal//NONSGML v1.0//EN
BEGIN:VEVENT
DTSTAMP:20260426T103000
DTSTART:20260426T103000
DTEND:20260426T105500
SUMMARY:Inspection
LOCATION:6 Brisbane  Place Cromer NSW 2099
DESCRIPTION:
UID:50cbf756-3708-445e-8a6c-a9b2693dcb5c@enlivenai.com.au
END:VEVENT
END:VCALENDAR
