BEGIN:VCALENDAR
METHOD:PUBLISH
VERSION:2.0
PRODID:-//hacksw/handcal//NONSGML v1.0//EN
BEGIN:VEVENT
DTSTAMP:20260422T163000
DTSTART:20260422T163000
DTEND:20260422T164500
SUMMARY:Inspection
LOCATION:3/29 Smith Street Wollongong NSW 2500
DESCRIPTION:
UID:f9630ec2-bd0b-4d90-8752-ab5a3b25a5ce@enlivenai.com.au
END:VEVENT
END:VCALENDAR
