BEGIN:VCALENDAR
METHOD:PUBLISH
VERSION:2.0
PRODID:-//hacksw/handcal//NONSGML v1.0//EN
BEGIN:VEVENT
DTSTAMP:20260502T090000
DTSTART:20260502T090000
DTEND:20260502T093000
SUMMARY:Inspection
LOCATION:LOT 2/20 Romea Street The Gap QLD 4061
DESCRIPTION:
UID:faaa9d22-0963-4e4f-a5cc-e882f6bd934a@enlivenai.com.au
END:VEVENT
END:VCALENDAR
