BEGIN:VCALENDAR
METHOD:PUBLISH
VERSION:2.0
PRODID:-//hacksw/handcal//NONSGML v1.0//EN
BEGIN:VEVENT
DTSTAMP:20260424T141500
DTSTART:20260424T141500
DTEND:20260424T144500
SUMMARY:Inspection
LOCATION:41/100 Barcom Avenue Darlinghurst NSW 2010
DESCRIPTION:
UID:85dfee84-894f-485d-8924-e30c9e4198c2@enlivenai.com.au
END:VEVENT
END:VCALENDAR
