BEGIN:VCALENDAR
METHOD:PUBLISH
VERSION:2.0
PRODID:-//hacksw/handcal//NONSGML v1.0//EN
BEGIN:VEVENT
DTSTAMP:20260430T173000
DTSTART:20260430T173000
DTEND:20260430T180000
SUMMARY:Inspection
LOCATION:41/100 Barcom Avenue Darlinghurst NSW 2010
DESCRIPTION:
UID:7507ca7d-1483-46a9-b26a-03a7202d73be@enlivenai.com.au
END:VEVENT
END:VCALENDAR
