BEGIN:VCALENDAR
METHOD:PUBLISH
VERSION:2.0
PRODID:-//hacksw/handcal//NONSGML v1.0//EN
BEGIN:VEVENT
DTSTAMP:20260502T141500
DTSTART:20260502T141500
DTEND:20260502T144500
SUMMARY:Inspection
LOCATION:41/100 Barcom Avenue Darlinghurst NSW 2010
DESCRIPTION:
UID:a36c6704-3be0-4cdd-a66d-a5a8e692fc99@enlivenai.com.au
END:VEVENT
END:VCALENDAR
