BEGIN:VCALENDAR
METHOD:PUBLISH
VERSION:2.0
PRODID:-//hacksw/handcal//NONSGML v1.0//EN
BEGIN:VEVENT
DTSTAMP:20260422T170000
DTSTART:20260422T170000
DTEND:20260422T171500
SUMMARY:Inspection
LOCATION:13/2-6 Illawarra Street Allawah NSW 2218
DESCRIPTION:
UID:16d40fb3-6f9c-4040-982d-55beee791b85@enlivenai.com.au
END:VEVENT
END:VCALENDAR
