BEGIN:VCALENDAR
METHOD:PUBLISH
VERSION:2.0
PRODID:-//hacksw/handcal//NONSGML v1.0//EN
BEGIN:VEVENT
DTSTAMP:20260426T114000
DTSTART:20260426T114000
DTEND:20260426T121000
SUMMARY:Inspection
LOCATION:1 Neptune Street Dundas Valley NSW 2117
DESCRIPTION:
UID:e85e4818-4b78-4adb-9927-ea9ea0dc13da@enlivenai.com.au
END:VEVENT
END:VCALENDAR
