BEGIN:VCALENDAR
METHOD:PUBLISH
VERSION:2.0
PRODID:-//hacksw/handcal//NONSGML v1.0//EN
BEGIN:VEVENT
DTSTAMP:20260425T141500
DTSTART:20260425T141500
DTEND:20260425T144500
SUMMARY:Inspection
LOCATION:34 Melibee Street Blairgowrie VIC 3942
DESCRIPTION:
UID:97e70bb6-67d6-4c95-bbf6-4a9696c293fd@enlivenai.com.au
END:VEVENT
END:VCALENDAR
