BEGIN:VCALENDAR
METHOD:PUBLISH
VERSION:2.0
PRODID:-//hacksw/handcal//NONSGML v1.0//EN
BEGIN:VEVENT
DTSTAMP:20260418T120000
DTSTART:20260418T120000
DTEND:20260418T123000
SUMMARY:Inspection
LOCATION:9/71 Evans Street Freshwater NSW 2096
DESCRIPTION:
UID:fe9268bb-0a26-46cd-b329-f4fd69c6fe19@enlivenai.com.au
END:VEVENT
END:VCALENDAR
