BEGIN:VCALENDAR
METHOD:PUBLISH
VERSION:2.0
PRODID:-//hacksw/handcal//NONSGML v1.0//EN
BEGIN:VEVENT
DTSTAMP:20260424T110000
DTSTART:20260424T110000
DTEND:20260424T113000
SUMMARY:Inspection
LOCATION:1305/174 Goulburn Street Surry Hills NSW 2010
DESCRIPTION:
UID:f9a88a99-0176-4e86-8e90-48c3e7d532d9@enlivenai.com.au
END:VEVENT
END:VCALENDAR
