BEGIN:VCALENDAR
METHOD:PUBLISH
VERSION:2.0
PRODID:-//hacksw/handcal//NONSGML v1.0//EN
BEGIN:VEVENT
DTSTAMP:20260426T111500
DTSTART:20260426T111500
DTEND:20260426T114500
SUMMARY:Inspection
LOCATION:28/20 St Edmonds Road Prahran VIC 3181
DESCRIPTION:
UID:6fe34afe-3b69-4443-b7f6-714e071605f1@enlivenai.com.au
END:VEVENT
END:VCALENDAR
