BEGIN:VCALENDAR
METHOD:PUBLISH
VERSION:2.0
PRODID:-//hacksw/handcal//NONSGML v1.0//EN
BEGIN:VEVENT
DTSTAMP:20260509T113000
DTSTART:20260509T113000
DTEND:20260509T120000
SUMMARY:Inspection
LOCATION:60/24 Buchanan Street Balmain NSW 2041
DESCRIPTION:
UID:98efeb1d-1488-43ce-a9f1-3ea0febdf996@enlivenai.com.au
END:VEVENT
END:VCALENDAR
