BEGIN:VCALENDAR
METHOD:PUBLISH
VERSION:2.0
PRODID:-//hacksw/handcal//NONSGML v1.0//EN
BEGIN:VEVENT
DTSTAMP:20260505T130000
DTSTART:20260505T130000
DTEND:20260505T133000
SUMMARY:Inspection
LOCATION:60/24 Buchanan Street Balmain NSW 2041
DESCRIPTION:
UID:43714bd1-51b4-4c83-9dbc-f574ab9ea63b@enlivenai.com.au
END:VEVENT
END:VCALENDAR
