BEGIN:VCALENDAR
METHOD:PUBLISH
VERSION:2.0
PRODID:-//hacksw/handcal//NONSGML v1.0//EN
BEGIN:VEVENT
DTSTAMP:20260502T143000
DTSTART:20260502T143000
DTEND:20260502T150000
SUMMARY:Inspection
LOCATION:60/24 Buchanan Street Balmain NSW 2041
DESCRIPTION:
UID:0fa75063-e35d-4abb-a3a2-5b84319ff733@enlivenai.com.au
END:VEVENT
END:VCALENDAR
