BEGIN:VCALENDAR
METHOD:PUBLISH
VERSION:2.0
PRODID:-//hacksw/handcal//NONSGML v1.0//EN
BEGIN:VEVENT
DTSTAMP:20260424T131500
DTSTART:20260424T131500
DTEND:20260424T133000
SUMMARY:Inspection
LOCATION:14 Premier Street Kogarah NSW 2217
DESCRIPTION:
UID:af8cd7a2-f247-44c6-9bd3-432a74c76b4a@enlivenai.com.au
END:VEVENT
END:VCALENDAR
