BEGIN:VCALENDAR
METHOD:PUBLISH
VERSION:2.0
PRODID:-//hacksw/handcal//NONSGML v1.0//EN
BEGIN:VEVENT
DTSTAMP:20260502T130000
DTSTART:20260502T130000
DTEND:20260502T133000
SUMMARY:Inspection
LOCATION:32 Emily Street Leichhardt NSW 2040
DESCRIPTION:
UID:229ed585-b9a2-44ef-be83-57e04a7e23f4@enlivenai.com.au
END:VEVENT
END:VCALENDAR
