BEGIN:VCALENDAR
METHOD:PUBLISH
VERSION:2.0
PRODID:-//hacksw/handcal//NONSGML v1.0//EN
BEGIN:VEVENT
DTSTAMP:20260430T170000
DTSTART:20260430T170000
DTEND:20260430T173000
SUMMARY:Inspection
LOCATION:32 Emily Street Leichhardt NSW 2040
DESCRIPTION:
UID:385e4c9c-0e3e-4b05-833f-62fab3a7b552@enlivenai.com.au
END:VEVENT
END:VCALENDAR
