BEGIN:VCALENDAR
METHOD:PUBLISH
VERSION:2.0
PRODID:-//hacksw/handcal//NONSGML v1.0//EN
BEGIN:VEVENT
DTSTAMP:20260425T130000
DTSTART:20260425T130000
DTEND:20260425T134500
SUMMARY:Inspection
LOCATION:42 Lansdowne Road Kensington WA 6151
DESCRIPTION:
UID:030871f7-1993-445f-ace5-2a2406e31f18@enlivenai.com.au
END:VEVENT
END:VCALENDAR
