BEGIN:VCALENDAR
METHOD:PUBLISH
VERSION:2.0
PRODID:-//hacksw/handcal//NONSGML v1.0//EN
BEGIN:VEVENT
DTSTAMP:20260426T150000
DTSTART:20260426T150000
DTEND:20260426T153000
SUMMARY:Inspection
LOCATION:532 Glen Eira Road Caulfield VIC 3162
DESCRIPTION:
UID:eb0d8a70-f67d-4962-a327-e5b370eaea3f@enlivenai.com.au
END:VEVENT
END:VCALENDAR
