BEGIN:VCALENDAR
METHOD:PUBLISH
VERSION:2.0
PRODID:-//hacksw/handcal//NONSGML v1.0//EN
BEGIN:VEVENT
DTSTAMP:20260426T123000
DTSTART:20260426T123000
DTEND:20260426T131500
SUMMARY:Inspection
LOCATION:12 Arthur Court Dayboro QLD 4521
DESCRIPTION:
UID:7da29c74-9ab0-4bc5-87a8-67a4cc9c0706@enlivenai.com.au
END:VEVENT
END:VCALENDAR
