BEGIN:VCALENDAR
METHOD:PUBLISH
VERSION:2.0
PRODID:-//hacksw/handcal//NONSGML v1.0//EN
BEGIN:VEVENT
DTSTAMP:20260430T140000
DTSTART:20260430T140000
DTEND:20260430T143000
SUMMARY:Inspection
LOCATION:7 Cora Court Mount Waverley VIC 3149
DESCRIPTION:
UID:b6389e0e-228a-439e-9ef1-e1fbf6dc7ac4@enlivenai.com.au
END:VEVENT
END:VCALENDAR
