BEGIN:VCALENDAR
METHOD:PUBLISH
VERSION:2.0
PRODID:-//hacksw/handcal//NONSGML v1.0//EN
BEGIN:VEVENT
DTSTAMP:20260430T180000
DTSTART:20260430T180000
DTEND:20260430T183000
SUMMARY:Inspection
LOCATION:2A Salisbury Avenue Bexley NSW 2207
DESCRIPTION:
UID:fb38bd58-e614-4a66-82a4-8e9a5a76062c@enlivenai.com.au
END:VEVENT
END:VCALENDAR
