BEGIN:VCALENDAR
METHOD:PUBLISH
VERSION:2.0
PRODID:-//hacksw/handcal//NONSGML v1.0//EN
BEGIN:VEVENT
DTSTAMP:20260428T110000
DTSTART:20260428T110000
DTEND:20260428T113000
SUMMARY:Inspection
LOCATION:2A Salisbury Avenue Bexley NSW 2207
DESCRIPTION:
UID:677bce44-0b22-46e1-acd0-f5feb91055d4@enlivenai.com.au
END:VEVENT
END:VCALENDAR
