BEGIN:VCALENDAR
METHOD:PUBLISH
VERSION:2.0
PRODID:-//hacksw/handcal//NONSGML v1.0//EN
BEGIN:VEVENT
DTSTAMP:20260428T171000
DTSTART:20260428T171000
DTEND:20260428T173000
SUMMARY:Inspection
LOCATION:3/1-3 Fraser Street Randwick NSW 2031
DESCRIPTION:
UID:5cd6d73c-cbd4-419d-b2b2-3626c78d8dec@enlivenai.com.au
END:VEVENT
END:VCALENDAR
