BEGIN:VCALENDAR
METHOD:PUBLISH
VERSION:2.0
PRODID:-//hacksw/handcal//NONSGML v1.0//EN
BEGIN:VEVENT
DTSTAMP:20260425T170000
DTSTART:20260425T170000
DTEND:20260425T173000
SUMMARY:Inspection
LOCATION:1A Selborne Street Burwood NSW 2134
DESCRIPTION:
UID:1177498f-8da9-4589-a065-aaa66426fb23@enlivenai.com.au
END:VEVENT
END:VCALENDAR
