BEGIN:VCALENDAR
METHOD:PUBLISH
VERSION:2.0
PRODID:-//hacksw/handcal//NONSGML v1.0//EN
BEGIN:VEVENT
DTSTAMP:20260428T170000
DTSTART:20260428T170000
DTEND:20260428T174500
SUMMARY:Inspection
LOCATION:14 Dalton Road Mosman NSW 2088
DESCRIPTION:
UID:a594b4b7-e0fc-47e3-a89d-4e549241882a@enlivenai.com.au
END:VEVENT
END:VCALENDAR
